BEGIN:VCALENDAR
VERSION:2.0
PRODID:-//Squarespace Inc/Squarespace 6//v6//EN
BEGIN:VEVENT
UID:5da5923e8a832f0bdd5a5d41@squarespace.com
DTSTAMP:20191015T093444Z
DTSTART:20191020T150000Z
DTEND:20191020T170000Z
SUMMARY:Inversion Fundamentals @ Studio Red 20th October 11am till 1pm $50.
END:VEVENT
END:VCALENDAR
