BEGIN:VCALENDAR
VERSION:2.0
PRODID:-//Squarespace Inc/Squarespace 6//v6//EN
BEGIN:VEVENT
UID:5d9c6a0ca536645dc9d336d4@squarespace.com
DTSTAMP:20191008T105856Z
DTSTART:20191008T110000Z
DTEND:20191008T120000Z
SUMMARY:INVERSIONS WORKSHOP AT KANUKA - HOBSONVILLE POINT
END:VEVENT
END:VCALENDAR
