BEGIN:VCALENDAR
VERSION:2.0
PRODID:-//Squarespace Inc/Squarespace 6//v6//EN
BEGIN:VEVENT
UID:5d9c62eff9e0403230ce1dd8@squarespace.com
DTSTAMP:20191014T091232Z
DTSTART:20200802T233000Z
DTEND:20200809T210000Z
SUMMARY:THAILAND RETREAT 2020  - AUG 2ND to- 8TH
END:VEVENT
END:VCALENDAR
