BEGIN:VCALENDAR
VERSION:2.0
PRODID:-//Squarespace Inc/Squarespace 6//v6//EN
BEGIN:VEVENT
UID:5d9c6125638dbc3656dba314@squarespace.com
DTSTAMP:20191014T091215Z
DTSTART:20191122T140000Z
DTEND:20191124T220000Z
SUMMARY:YOGA IMMERSION WEEKEND - NOVEMBER 22 - 24TH 2019
GEO:-36.892157;174.44878
LOCATION:bethells beach\,\, Waitakere\, Auckland\, New Zealand
END:VEVENT
END:VCALENDAR
