BEGIN:VCALENDAR
VERSION:2.0
PRODID:-//Squarespace Inc/Squarespace 6//v6//EN
BEGIN:VEVENT
UID:5d9c64f227ef28184d522235@squarespace.com
DTSTAMP:20191014T091222Z
DTSTART:20200101T103000Z
DTEND:20200101T113000Z
SUMMARY: NZ Retreat 2020 Releasing soon - Sign up to the email list to find 
 out first where it will be
END:VEVENT
END:VCALENDAR
