BEGIN:VCALENDAR
VERSION:2.0
PRODID:-//Squarespace Inc/Squarespace 6//v6//EN
BEGIN:VEVENT
UID:5da4456dae38d16041a37c60@squarespace.com
DTSTAMP:20191014T095626Z
DTSTART:20200201T130000Z
DTEND:20210202T010000Z
SUMMARY:+300HR ADVANCED TRAINING @ RAW YOGA 2020
END:VEVENT
END:VCALENDAR
