BEGIN:VCALENDAR
VERSION:2.0
PRODID:-//Squarespace Inc/Squarespace 6//v6//EN
BEGIN:VEVENT
UID:5da440846b739e6f84c6b68e@squarespace.com
DTSTAMP:20191014T102609Z
DTSTART:20200211T130000Z
DTEND:20200216T220000Z
SUMMARY:BIOMECHANICS AND FUNCTIONAL ANATOMY FOR THE MODERN DAY YOGI  @ OM Y
 OGA
END:VEVENT
END:VCALENDAR
