BEGIN:VCALENDAR
VERSION:2.0
PRODID:-//Squarespace Inc/Squarespace 6//v6//EN
BEGIN:VEVENT
UID:5da44d6f6128266a780ed082@squarespace.com
DTSTAMP:20191015T095240Z
DTSTART:20200601T130000Z
DTEND:20201130T220000Z
SUMMARY:200HR RYT WITH RAW YOGA
END:VEVENT
END:VCALENDAR
