BEGIN:VCALENDAR
VERSION:2.0
PRODID:-//Squarespace Inc/Squarespace 6//v6//EN
BEGIN:VEVENT
UID:5da443112d11583e99b1a004@squarespace.com
DTSTAMP:20191014T102636Z
DTSTART:20200801T120000Z
DTEND:20200831T210000Z
SUMMARY:CREATIVE AND MEANINGFUL SEQUENCING - AUGUST 2020 @ OM YOGA
END:VEVENT
END:VCALENDAR
